BEGIN:VCALENDAR
VERSION:2.0
PRODID:-//ChamberMaster//Event Calendar 2.0//EN
METHOD:PUBLISH
X-PUBLISHED-TTL:P3D
REFRESH-INTERVAL:P3D
CALSCALE:GREGORIAN
BEGIN:VEVENT
DTSTART:20240822T000000Z
DTEND:20240822T040000Z
X-MICROSOFT-CDO-ALLDAYEVENT:FALSE
SUMMARY:Off The Grid
DESCRIPTION:Come to the City Hall Lake (100 Gregory Lane) every Wednesday from 5:00 - 9:00 p.m. to enjoy tasty treats from the outstanding food trucks of Off the Grid. \n\n\n\nBring the family down for dinner in a picnic setting with music and excellent food. Off the Grid provides Adirondack chairs and picnic tables to make things even easier. Or bring your own blankets and chairs and grab some grass near the lake.\n\n\n\nThis event is put on by the City of Pleasant Hill
X-ALT-DESC;FMTTYPE=text/html:<span style="color: rgb(43\, 43\, 43)\; font-family: Arial\; font-size: 14.4px\;">Come to the City Hall Lake (100 Gregory Lane) every Wednesday from 5:00 - 9:00 p.m. to enjoy tasty treats from the outstanding food trucks of Off the Grid.&nbsp\;</span><br style="box-sizing: border-box\; color: rgb(43\, 43\, 43)\; font-family: Arial\; font-size: 14.4px\;" />\n<br style="box-sizing: border-box\; color: rgb(43\, 43\, 43)\; font-family: Arial\; font-size: 14.4px\;" />\n<span style="color: rgb(43\, 43\, 43)\; font-family: Arial\; font-size: 14.4px\;">Bring the family down for dinner in a picnic setting with music and excellent food. Off the Grid provides Adirondack chairs and picnic tables to make things even easier. Or bring your own blankets and chairs and grab some grass near the lake.<br />\n<br />\nThis event is put on by the City of Pleasant Hill</span>
LOCATION:City Hall Lake
UID:e.1839.8728
SEQUENCE:3
DTSTAMP:20260424T215112Z
URL:http://business.pleasanthillchamber.com/events/details/off-the-grid-08-21-2024-8728
END:VEVENT

END:VCALENDAR
