BEGIN:VCALENDAR
VERSION:2.0
PRODID:-//ChamberMaster//Event Calendar 2.0//EN
METHOD:PUBLISH
X-PUBLISHED-TTL:P3D
REFRESH-INTERVAL:P3D
CALSCALE:GREGORIAN
BEGIN:VEVENT
DTSTART:20231028T163000Z
DTEND:20231028T193000Z
X-MICROSOFT-CDO-ALLDAYEVENT:FALSE
SUMMARY:RISE AGAINST HUNGER
DESCRIPTION:The world produces enough food for everyone - the problem is distribution!.  You\, your family and friends can help get it to those on the margins in dozens of countries around the world - Blest to be Blessings!
X-ALT-DESC;FMTTYPE=text/html:The world produces enough food for everyone - the problem is distribution!.&nbsp\; You\, your family and friends can help get it to those on the margins in dozens of countries around the world - Blest to be Blessings!
LOCATION:1601 Mary Drive Pleasant Hill at St Andrews Presbyterian Church Celebration Center
UID:e.1839.8664
SEQUENCE:3
DTSTAMP:20260424T011432Z
URL:http://business.pleasanthillchamber.com/events/details/rise-against-hunger-8664
END:VEVENT

END:VCALENDAR
