BEGIN:VCALENDAR
VERSION:2.0
PRODID:-//ChamberMaster//Event Calendar 2.0//EN
METHOD:PUBLISH
X-PUBLISHED-TTL:P3D
REFRESH-INTERVAL:P3D
CALSCALE:GREGORIAN
BEGIN:VEVENT
DTSTART:20240805T010000Z
DTEND:20240805T030000Z
X-MICROSOFT-CDO-ALLDAYEVENT:FALSE
SUMMARY:Sunset by the Lake Summer Concert
DESCRIPTION:Enjoy live music by the lake at City Hall (100 Gregory Road) every other Sunday from 6-8. p.m.\n\nProduced by the Civic Action Commission.\n\n\n\nThis week Features:  Hot For Teacher\n\n\n\n**FAMILY FUN ZONE**\n\n\n\nFood Trucks:        \n\nCrazy Empanadas\n\nMama Shawarmas\n\nThe Guzzler
X-ALT-DESC;FMTTYPE=text/html:<div><span style="color: rgb(43\, 43\, 43)\; font-family: Arial\; font-size: 14.4px\; font-weight: 700\;">Enjoy live music by the lake at City Hall (100 Gregory Road) every other Sunday from 6-8. p.m.</span><br style="color: rgb(43\, 43\, 43)\; font-family: Arial\; font-size: 14.4px\; font-weight: 700\;" />\n<span style="color: rgb(43\, 43\, 43)\; font-family: Arial\; font-size: 14.4px\; font-weight: 700\;">Produced by the Civic Action Commission.</span><br style="color: rgb(43\, 43\, 43)\; font-family: Arial\; font-size: 14.4px\; font-weight: 700\;" />\n<br style="color: rgb(43\, 43\, 43)\; font-family: Arial\; font-size: 14.4px\; font-weight: 700\;" />\n<span style="color: rgb(43\, 43\, 43)\; font-family: Arial\; font-size: 14.4px\; font-weight: 700\;">This week Feat</span><span style="color: rgb(43\, 43\, 43)\; font-family: Arial\; font-size: 14.4px\; font-weight: 700\;">ures:&nbsp\;&nbsp\;</span><span font-size:="" segoe="" style="box-sizing: border-box\; font-weight: 700\; color: rgb(5\, 5\, 5)\;" ui="" white-space-collapse:=""><span style="color: rgb(43\, 43\, 43)\; font-family: Arial\; font-size: 14.4px\;">Hot For Teacher<br />\n<br />\n**FAMILY FUN ZONE**</span></span><br />\n<br />\n<span style="font-size:14px\;"><strong><span style="font-family:arial\;"><span font-size:="" segoe="" style="color: rgb(5\, 5\, 5)\;" ui="" white-space-collapse:="">Food Trucks:&nbsp\; &nbsp\; &nbsp\; &nbsp\;&nbsp\;</span><br font-size:="" segoe="" style="box-sizing: border-box\; color: rgb(5\, 5\, 5)\;" ui="" white-space-collapse:="" />\n<span font-size:="" segoe="" style="box-sizing: border-box\; font-weight: 700\;" ui="" white-space-collapse:=""><span style="color: rgb(43\, 43\, 43)\; box-sizing: border-box\;">Crazy Empanadas</span><br />\n<font color="#2b2b2b">Mama Shawarmas</font><br />\n<span style="color: rgb(43\, 43\, 43)\; box-sizing: border-box\;">The Guzzler</span></span></span></strong></span></div>\n
LOCATION:
UID:e.1839.8923
SEQUENCE:3
DTSTAMP:20260424T175318Z
URL:http://business.pleasanthillchamber.com/events/details/sunset-by-the-lake-summer-concert-8923
END:VEVENT

END:VCALENDAR
