BEGIN:VCALENDAR
VERSION:2.0
PRODID:-//ChamberMaster//Event Calendar 2.0//EN
METHOD:PUBLISH
X-PUBLISHED-TTL:P3D
REFRESH-INTERVAL:P3D
CALSCALE:GREGORIAN
BEGIN:VEVENT
DTSTART:20230302T003000Z
DTEND:20230302T023000Z
X-MICROSOFT-CDO-ALLDAYEVENT:FALSE
SUMMARY:TreVista Business After Hours: Professional Mixer
DESCRIPTION:Concord area Health Care Professionals: join us downtown at The Hop Grenade for craft beer and appetizers\, on us! Mix and mingle with other professionals and discuss how to partner for future success. While you are here\, register to win a $100 Amazon gift card!
X-ALT-DESC;FMTTYPE=text/html:Concord area Health Care Professionals: join us downtown at The Hop Grenade for craft beer and appetizers\, on us! Mix and mingle with other professionals and discuss how to partner for future success. While you are here\, register to win a $100 Amazon gift card!
LOCATION:The Hop Grenade\, 2151 Salvio St. Concord\, CA\, 94520
UID:e.1839.8604
SEQUENCE:3
DTSTAMP:20260423T144941Z
URL:http://business.pleasanthillchamber.com/events/details/trevista-business-after-hours-professional-mixer-8604
END:VEVENT

END:VCALENDAR
