BEGIN:VCALENDAR
VERSION:2.0
PRODID:-//ChamberMaster//Event Calendar 2.0//EN
METHOD:PUBLISH
X-PUBLISHED-TTL:P3D
REFRESH-INTERVAL:P3D
CALSCALE:GREGORIAN
BEGIN:VEVENT
DTSTART:20260131T163000Z
DTEND:20260201T013000Z
X-MICROSOFT-CDO-ALLDAYEVENT:FALSE
SUMMARY:Veteran's Entrepreneurship Bootcamp
DESCRIPTION:"Veterans Entrepreneurship Bootcamp" hosted by the Diablo Valley College Student Veterans Resource Center. The event\, titled "From Service to Startup: Your Entrepreneurial Journey Starts Here\," is a hands-on entrepreneurship bootcamp specifically for veterans and military-connected individuals.
X-ALT-DESC;FMTTYPE=text/html:&quot\;Veterans Entrepreneurship Bootcamp&quot\; hosted by the Diablo Valley College Student Veterans Resource Center. The event\, titled &quot\;From Service to Startup: Your Entrepreneurial Journey Starts Here\,&quot\; is a hands-on entrepreneurship bootcamp specifically for veterans and military-connected individuals.
LOCATION:Diablo Valley College 321 Golf Club Road Pleasant Hill\, CA Diablo Room
UID:e.1839.9828
SEQUENCE:3
DTSTAMP:20260425T205527Z
URL:http://business.pleasanthillchamber.com/events/details/veteran-s-entrepreneurship-bootcamp-9828
END:VEVENT

END:VCALENDAR
