BEGIN:VCALENDAR
VERSION:2.0
PRODID:-//ChamberMaster//Event Calendar 2.0//EN
METHOD:PUBLISH
X-PUBLISHED-TTL:P3D
REFRESH-INTERVAL:P3D
CALSCALE:GREGORIAN
BEGIN:VEVENT
DTSTART:20260225T163000Z
DTEND:20260225T180000Z
X-MICROSOFT-CDO-ALLDAYEVENT:FALSE
SUMMARY:680 Networking Group
DESCRIPTION:The 680 Networking Group is designed for Chamber members who want to grow their  professional network. This is a great opportunity to share ideas\, find ways to generate new business\, and build connections. \n\nWe meet on the 2nd and 4th Wednesday of each month from 8:30 am to 10:00 am\n\n\n\nSpeaker\n\nSean McCue Edward Jones
X-ALT-DESC;FMTTYPE=text/html:The 680 Networking Group is designed for Chamber members who want to grow their&nbsp\;&nbsp\;professional network. This is a great opportunity to share ideas\, find ways to generate new business\, and build connections.&nbsp\;<br />\nWe meet on the 2nd and 4th Wednesday of each month from&nbsp\;8:30 am to 10:00 am<br />\n<br />\nSpeaker<br />\nSean McCue Edward Jones<br />\n&nbsp\;
LOCATION:JFK/National University 100 Ellinwood Way Pleasant Hill\, CA 94523
UID:e.1839.9277
SEQUENCE:3
DTSTAMP:20260422T052211Z
URL:https://business.pleasanthillchamber.com/events/details/680-networking-group-02-25-2026-9277
END:VEVENT

END:VCALENDAR
