BEGIN:VCALENDAR
VERSION:2.0
PRODID:-//ChamberMaster//Event Calendar 2.0//EN
METHOD:PUBLISH
X-PUBLISHED-TTL:P3D
REFRESH-INTERVAL:P3D
CALSCALE:GREGORIAN
BEGIN:VEVENT
DTSTART:20250905T153000Z
DTEND:20250905T163000Z
X-MICROSOFT-CDO-ALLDAYEVENT:FALSE
SUMMARY:Ambassador Meeting
DESCRIPTION:The Pleasant Hill Chamber Ambassadors\n\nThe mission of the Chamber Ambassadors is to promote the role of the Pleasant Hill Chamber of Commerce in the community by welcoming new members\, encouraging current members to maximize their membership and aid in the maintaining/increasing the retention rate of new and existing members through reinforcing the Chamber benefits.  Ambassadors create a positive image for the Chamber by acting as liaisons between members and the Chamber Staff.  The Ambassadors meet on the 1st Friday of every month.
X-ALT-DESC;FMTTYPE=text/html:<span style="font-size: 14pt\;"><span style="font-family: calibri\,sans-serif\;"><a href="http://www.pleasanthillchamber.com/pages/Ambassadors" target="_blank"><u><strong>The Pleasant Hill Chamber Ambassadors</strong></u></a><br />\nThe mission of the Chamber Ambassadors is to promote the role of the Pleasant Hill Chamber of Commerce in the community by welcoming new members\, encouraging current members to maximize their membership and aid in the maintaining/increasing the retention rate of new and existing members through reinforcing the Chamber benefits.&nbsp\; Ambassadors create a positive image for the Chamber by acting as liaisons between members and the Chamber Staff.&nbsp\; The Ambassadors meet on the 1st Friday of every month.</span></span>
LOCATION:TBD
UID:e.1839.8057
SEQUENCE:3
DTSTAMP:20260420T081122Z
URL:https://business.pleasanthillchamber.com/events/details/ambassador-meeting-09-05-2025-8057
END:VEVENT

END:VCALENDAR
