BEGIN:VCALENDAR
VERSION:2.0
PRODID:-//ChamberMaster//Event Calendar 2.0//EN
METHOD:PUBLISH
X-PUBLISHED-TTL:P3D
REFRESH-INTERVAL:P3D
CALSCALE:GREGORIAN
BEGIN:VEVENT
DTSTART:20260516T180000Z
DTEND:20260518T010000Z
X-MICROSOFT-CDO-ALLDAYEVENT:FALSE
SUMMARY:Art Wine & Music 2026
DESCRIPTION:Come join us for two days of fun at the Pleasant Hill Art\, Wine\, & Music 2026\n\nSee ALL the details HERE
X-ALT-DESC;FMTTYPE=text/html:Come join us for two days of fun at the Pleasant Hill Art\, Wine\, &amp\; Music 2026<br />\nSee ALL the details <a href="https://www.pleasanthillchamber.com/art-wine-music/">HERE</a>
LOCATION:Festivities will occur in downtown Pleasant Hill around Crescent Drive.
UID:e.1839.9830
SEQUENCE:3
DTSTAMP:20260422T034544Z
URL:https://business.pleasanthillchamber.com/events/details/art-wine-music-2026-9830
END:VEVENT

END:VCALENDAR
