BEGIN:VCALENDAR
VERSION:2.0
PRODID:-//ChamberMaster//Event Calendar 2.0//EN
METHOD:PUBLISH
X-PUBLISHED-TTL:P3D
REFRESH-INTERVAL:P3D
CALSCALE:GREGORIAN
BEGIN:VEVENT
DTSTART:20251114T010000Z
DTEND:20251114T030000Z
X-MICROSOFT-CDO-ALLDAYEVENT:FALSE
SUMMARY:Chamber Business Mixer
DESCRIPTION:Please join the Pleasant Hill Chamber of Commerce for our November mixer!\n\nThe mixer is open to all members and the larger business community in Pleasant Hill.
X-ALT-DESC;FMTTYPE=text/html:Please join the Pleasant Hill Chamber of Commerce for our November mixer!<br />\nThe mixer is open to all members and the larger business community in Pleasant Hill.
LOCATION:Youth Homes 15 Vivian Dr. Ste B Pleasant Hill
UID:e.1839.9695
SEQUENCE:3
DTSTAMP:20260424T112818Z
URL:https://business.pleasanthillchamber.com/events/details/chamber-business-mixer-9695
END:VEVENT

END:VCALENDAR
