BEGIN:VCALENDAR
VERSION:2.0
PRODID:-//ChamberMaster//Event Calendar 2.0//EN
METHOD:PUBLISH
X-PUBLISHED-TTL:P3D
REFRESH-INTERVAL:P3D
CALSCALE:GREGORIAN
BEGIN:VEVENT
DTSTART:20260109T010000Z
DTEND:20260109T030000Z
X-MICROSOFT-CDO-ALLDAYEVENT:FALSE
SUMMARY:Chamber Business Mixer
DESCRIPTION:Our first mixer of the year is at Hillcrest Community Church come reconnect with your business colleagues and start the year right!\n\n\n\nThe Hillcrest Church Community Food Room has been providing food to the community of Pleasant Hill and surrounding communities since the 1950s. The Food Room is a partner agency of the Food Bank of Contra Costa and Solano.\n\n Let's show our support by bringing nonperishable food items to the mixer. We all know someone who is struggling these days and this is one more way we can support the community.
X-ALT-DESC;FMTTYPE=text/html:<p>Our first mixer of the year is at Hillcrest Community Church come reconnect with your business colleagues and start the year right!<br />\n<br />\nThe Hillcrest Church Community Food Room has been providing food to the community of Pleasant Hill and surrounding communities since the 1950s. The Food Room is a partner agency of the Food Bank of Contra Costa and Solano.<br />\n&nbsp\;Let&#39\;s show our support by bringing nonperishable food items to the mixer. We all know someone who is struggling these days and this is one more way we can support the community.<br />\n&nbsp\;</p>\n
LOCATION:Hillcrest Congregational Church 404 Gregory Ln Pleasant Hill\, CA 94523
UID:e.1839.9812
SEQUENCE:3
DTSTAMP:20260420T013704Z
URL:https://business.pleasanthillchamber.com/events/details/chamber-business-mixer-9812
END:VEVENT

END:VCALENDAR
