BEGIN:VCALENDAR
VERSION:2.0
PRODID:-//ChamberMaster//Event Calendar 2.0//EN
METHOD:PUBLISH
X-PUBLISHED-TTL:P3D
REFRESH-INTERVAL:P3D
CALSCALE:GREGORIAN
BEGIN:VEVENT
DTSTART:20260213T010000Z
DTEND:20260213T030000Z
X-MICROSOFT-CDO-ALLDAYEVENT:FALSE
SUMMARY:Chamber Business Mixer
DESCRIPTION:Please join the Pleasant Hill Chamber of Commerce for our February mixer!\n\nThe mixer is open to all members and the larger business community in Pleasant Hill.
X-ALT-DESC;FMTTYPE=text/html:Please join the Pleasant Hill Chamber of Commerce for our February mixer!<br />\nThe mixer is open to all members and the larger business community in Pleasant Hill.&nbsp\;
LOCATION:Hospice East Bay Thrift Shoppe 959 Contra Costa Blvd Pleasant Hill\, CA 94523
UID:e.1839.9813
SEQUENCE:3
DTSTAMP:20260422T052442Z
URL:https://business.pleasanthillchamber.com/events/details/chamber-business-mixer-9813
END:VEVENT

END:VCALENDAR
