BEGIN:VCALENDAR
VERSION:2.0
PRODID:-//ChamberMaster//Event Calendar 2.0//EN
METHOD:PUBLISH
X-PUBLISHED-TTL:P3D
REFRESH-INTERVAL:P3D
CALSCALE:GREGORIAN
BEGIN:VEVENT
DTSTART:20260211T003000Z
DTEND:20260211T013000Z
X-MICROSOFT-CDO-ALLDAYEVENT:FALSE
SUMMARY:GAC Meeting
DESCRIPTION:The Pleasant Hill Chamber of Commerce Government Affairs Committee (GAC) provides a monthly forum for members to interact with our local elected officials. With an ever increasing business representation and committed leadership\, we provide a unified voice on issues and projects affecting businesses\, members and citizens within the Chamber's service area.\n\n\n\nSpeaker:\n\nPolice Chief Scott Vermillion
X-ALT-DESC;FMTTYPE=text/html:<span style="color: rgb(0\, 0\, 0)\; font-family: &quot\;Fira Sans&quot\;\, sans-serif\; font-size: 16px\;">The Pleasant Hill Chamber of Commerce Government Affairs Committee (GAC) provides a monthly forum for members to interact with our local elected officials. With an ever increasing business representation and committed leadership\, we provide a unified voice on issues and projects affecting businesses\, members and citizens within the Chamber&#39\;s service area.</span><br />\n<br />\n<span style="font-size:16px\;">Speaker:<br />\nPolice&nbsp\;<!--StartFragment--><span data-olk-copy-source="MessageBody" style="margin: 1em 0in 12pt\; font-family: Aptos\, Aptos_EmbeddedFont\, Aptos_MSFontService\, Calibri\, Helvetica\, sans-serif\, serif\, EmojiFont\; color: rgb(0\, 0\, 0)\;">Chief Scott Vermillion</span></span><!--EndFragment-->
LOCATION:Back Forty 100 Coggins Dr Pleasant Hill\, CA 94523
UID:e.1839.9788
SEQUENCE:3
DTSTAMP:20260420T031425Z
URL:https://business.pleasanthillchamber.com/events/details/gac-meeting-02-10-2026-9788
END:VEVENT

END:VCALENDAR
