BEGIN:VCALENDAR
VERSION:2.0
PRODID:-//ChamberMaster//Event Calendar 2.0//EN
METHOD:PUBLISH
X-PUBLISHED-TTL:P3D
REFRESH-INTERVAL:P3D
CALSCALE:GREGORIAN
BEGIN:VEVENT
DTSTART:20260714T233000Z
DTEND:20260715T003000Z
X-MICROSOFT-CDO-ALLDAYEVENT:FALSE
SUMMARY:GAC Meeting
DESCRIPTION:The Pleasant Hill Chamber of Commerce Government Affairs Committee (GAC) provides a monthly forum for members to interact with our local elected officials. With an ever increasing business representation and committed leadership\, we provide a unified voice on issues and projects affecting businesses\, members and citizens within the Chamber's service area.\n\n\n\nSpeaker: Senator Tim Grayson
X-ALT-DESC;FMTTYPE=text/html:<br />\n<span fira="" font-size:="" style="color: rgb(0\, 0\, 0)\; font-family: ">The Pleasant Hill Chamber of Commerce Government Affairs Committee (GAC) provides a monthly forum for members to interact with our local elected officials. With an ever increasing business representation and committed leadership\, we provide a unified voice on issues and projects affecting businesses\, members and citizens within the Chamber&#39\;s service area.<br />\n<br />\nSpeaker: </span><!--StartFragment--><span data-olk-copy-source="MessageBody">Senator Tim Grayson</span><!--EndFragment-->
LOCATION:Back Forty 100 Coggins Dr Pleasant Hill\, CA 94523
UID:e.1839.9793
SEQUENCE:3
DTSTAMP:20260422T065846Z
URL:https://business.pleasanthillchamber.com/events/details/gac-meeting-07-14-2026-9793
END:VEVENT

END:VCALENDAR
