BEGIN:VCALENDAR
VERSION:2.0
PRODID:-//ChamberMaster//Event Calendar 2.0//EN
METHOD:PUBLISH
X-PUBLISHED-TTL:P3D
REFRESH-INTERVAL:P3D
CALSCALE:GREGORIAN
BEGIN:VEVENT
DTSTART:20251119T003000Z
DTEND:20251119T013000Z
X-MICROSOFT-CDO-ALLDAYEVENT:FALSE
SUMMARY:GAC Meeting
DESCRIPTION:The Pleasant Hill Chamber of Commerce Government Affairs Committee (GAC) provides a monthly forum for members to interact with our local elected officials. With an ever increasing business representation and committed leadership\, we provide a unified voice on issues and projects affecting businesses\, members and citizens within the Chamber's service area.\n\n\n\nSpeaker:\n\nMayor Sue Noack
X-ALT-DESC;FMTTYPE=text/html:<span style="color: rgb(0\, 0\, 0)\; font-family: &quot\;Fira Sans&quot\;\, sans-serif\; font-size: 16px\;">The Pleasant Hill Chamber of Commerce Government Affairs Committee (GAC) provides a monthly forum for members to interact with our local elected officials. With an ever increasing business representation and committed leadership\, we provide a unified voice on issues and projects affecting businesses\, members and citizens within the Chamber&#39\;s service area.</span><br />\n<br />\n<span style="font-size:16px\;">Speaker:<br />\nMayor Sue Noack</span>
LOCATION:Back Forty 100 Coggins Dr Pleasant Hill\, CA 94523
UID:e.1839.9785
SEQUENCE:3
DTSTAMP:20260424T121350Z
URL:https://business.pleasanthillchamber.com/events/details/gac-meeting-11-11-2025-9785
END:VEVENT

END:VCALENDAR
