BEGIN:VCALENDAR
VERSION:2.0
PRODID:-//ChamberMaster//Event Calendar 2.0//EN
METHOD:PUBLISH
X-PUBLISHED-TTL:P3D
REFRESH-INTERVAL:P3D
CALSCALE:GREGORIAN
BEGIN:VEVENT
DTSTART:20251014T233000Z
DTEND:20251015T003000Z
X-MICROSOFT-CDO-ALLDAYEVENT:FALSE
SUMMARY:GAC Meeting
DESCRIPTION:The Pleasant Hill Chamber of Commerce Government Affairs Committee (GAC) provides a monthly forum for members to interact with our local elected officials. With an ever increasing business representation and committed leadership\, we provide a unified voice on issues and projects affecting businesses\, members and citizens within the Chamber's service area.\n\n\n\nSpeaker: County Supervisor Ken Carlson
X-ALT-DESC;FMTTYPE=text/html:<br />\n<span style="color: rgb(0\, 0\, 0)\; font-family: &quot\;Fira Sans&quot\;\, sans-serif\; font-size: 16px\;">The Pleasant Hill Chamber of Commerce Government Affairs Committee (GAC) provides a monthly forum for members to interact with our local elected officials. With an ever increasing business representation and committed leadership\, we provide a unified voice on issues and projects affecting businesses\, members and citizens within the Chamber&#39\;s service area.<br />\n<br />\nSpeaker: County Supervisor Ken Carlson</span>
LOCATION:Back Forty 100 Coggins Dr Pleasant Hill\, CA 94523
UID:e.1839.9772
SEQUENCE:3
DTSTAMP:20260419T204044Z
URL:https://business.pleasanthillchamber.com/events/details/gac-meeting-9772
END:VEVENT

END:VCALENDAR
