BEGIN:VCALENDAR
VERSION:2.0
PRODID:-//ChamberMaster//Event Calendar 2.0//EN
METHOD:PUBLISH
X-PUBLISHED-TTL:P3D
REFRESH-INTERVAL:P3D
CALSCALE:GREGORIAN
BEGIN:VEVENT
DTSTART:20260626T010000Z
DTEND:20260626T040000Z
X-MICROSOFT-CDO-ALLDAYEVENT:FALSE
SUMMARY:Installation Dinner
DESCRIPTION:The Board Installation Dinner & Businessperson of the Year Awards returns after more than a decade\, bringing back one of the Chamber's most distinguished traditions. This elegant evening honors outstanding local leadership while welcoming the newly installed Board of Directors\, drawing business owners\, civic leaders\, and community partners together in celebration. Sponsors gain prominent visibility in a respected\, highly anticipated setting\, with direct engagement among Pleasant Hill's most influential decision-makers.
X-ALT-DESC;FMTTYPE=text/html:The Board Installation Dinner &amp\; Businessperson of the Year Awards returns after more than a decade\, bringing back one of the Chamber&rsquo\;s most distinguished traditions. This elegant evening honors outstanding local leadership while welcoming the newly installed Board of Directors\, drawing business owners\, civic leaders\, and community partners together in celebration. Sponsors gain prominent visibility in a respected\, highly anticipated setting\, with direct engagement among Pleasant Hill&rsquo\;s most influential decision-makers.
LOCATION:Back Forty Texas BBQ
UID:e.1839.9833
SEQUENCE:3
DTSTAMP:20260424T211724Z
URL:https://business.pleasanthillchamber.com/events/details/installation-dinner-9833
END:VEVENT

END:VCALENDAR
