BEGIN:VCALENDAR
VERSION:2.0
PRODID:-//ChamberMaster//Event Calendar 2.0//EN
METHOD:PUBLISH
X-PUBLISHED-TTL:P3D
REFRESH-INTERVAL:P3D
CALSCALE:GREGORIAN
BEGIN:VEVENT
DTSTART:20260123T020000Z
DTEND:20260123T040000Z
X-MICROSOFT-CDO-ALLDAYEVENT:FALSE
SUMMARY:Wedding and Event Showcase
DESCRIPTION:Join us for an exclusive showcase where you'll meet the talented vendors who can bring your dream wedding or event to life. This is your opportunity to connect directly with professionals who specialize in creating unforgettable celebrations Whether you're planning a grand affair or an intimate gathering\, come discover the perfect team to make your vision a reality. from photographers and videographers to dessert carts\, DJ\, balloon artists\, florist\, and more.
X-ALT-DESC;FMTTYPE=text/html:Join us for an exclusive showcase where you&rsquo\;ll meet the talented vendors who can bring your dream wedding or event to life. This is your opportunity to connect directly with professionals who specialize in creating unforgettable celebrations&mdash\;Whether you&#39\;re planning a grand affair or an intimate gathering\, come discover the perfect team to make your vision a reality. from photographers and videographers to dessert carts\, DJ\, balloon artists\, florist\, and more.
LOCATION:Contra Costa Country Club 801 Golf Club Rd. Pleasant Hill Ca\,
UID:e.1839.9827
SEQUENCE:3
DTSTAMP:20260420T013512Z
URL:https://business.pleasanthillchamber.com/events/details/wedding-and-event-showcase-9827
END:VEVENT

END:VCALENDAR
